BEGIN:VCALENDAR
VERSION:2.0
PRODID:Events Booking
BEGIN:VEVENT
UID:69e7523ebb652
SUMMARY:What's new in Teamcenter 14.1 und Active Workspace 6.1
DESCRIPTION:Die Siemens PLM Software Teamcenter 14.1 und der Active Workspa
 ce 6.1 bringen wieder viele spannende Neuerungen mit.
 In unserem Webinar
  am Donnerstag\, den 15.09.2022 von 10 - 11:30 Uhr möchten wir Ihnen die 
 spannendsten Punkte aus folgenden Bereichen zeigen:
 Plan:
 
 Product R
 equirements Engineering
 Bill of Materials Management
 Product Configura
 tion
 Program\, Project and Process Management
 Change Management
 
 D
 eliver:
 
 Search and Analytics
 Manufacturing MBOM Management
 
 Dev
 elop:
 
 Mechanical Design Management mit Solid Works
 Lifecycle Visual
 ization im Active Workspace
 Lifecycle Visualization mit den Desktop- &am
 p\; Toolkits
 
 Seien Sie gespannt auf all die umfangreichen Neuerungen.
  Auf Grund der Vielzahl an Neuerungen\, setzen wir das Webinar für 90 Min
 uten an. Damit nehmen wir uns ausreichend Zeit\, um Ihnen alles zu zeigen 
 und auf Ihre Fragen einzugehen.
 Wir freuen uns auf Ihre Teilnahme. Melde
 n Sie sich jetzt an!
DTSTART:20220915T080000Z
DTEND:20220915T093000Z
DTSTAMP:20220815T032512Z
ORGANIZER;CN=Veranstaltungsteam der ePLM AG:MAILTO:events@eplm.de
END:VEVENT
END:VCALENDAR